BEGIN:VCALENDAR
VERSION:2.0
PRODID:-//graubünden Skitour - ECPv6.15.12.2//NONSGML v1.0//EN
CALSCALE:GREGORIAN
METHOD:PUBLISH
X-WR-CALNAME:graubünden Skitour
X-ORIGINAL-URL:https://graubuendenskitour.ch
X-WR-CALDESC:Veranstaltungen für graubünden Skitour
REFRESH-INTERVAL;VALUE=DURATION:PT1H
X-Robots-Tag:noindex
X-PUBLISHED-TTL:PT1H
BEGIN:VTIMEZONE
TZID:Europe/Zurich
BEGIN:DAYLIGHT
TZOFFSETFROM:+0100
TZOFFSETTO:+0200
TZNAME:CEST
DTSTART:20250330T010000
END:DAYLIGHT
BEGIN:STANDARD
TZOFFSETFROM:+0200
TZOFFSETTO:+0100
TZNAME:CET
DTSTART:20251026T010000
END:STANDARD
BEGIN:DAYLIGHT
TZOFFSETFROM:+0100
TZOFFSETTO:+0200
TZNAME:CEST
DTSTART:20260329T010000
END:DAYLIGHT
BEGIN:STANDARD
TZOFFSETFROM:+0200
TZOFFSETTO:+0100
TZNAME:CET
DTSTART:20261025T010000
END:STANDARD
BEGIN:DAYLIGHT
TZOFFSETFROM:+0100
TZOFFSETTO:+0200
TZNAME:CEST
DTSTART:20270328T010000
END:DAYLIGHT
BEGIN:STANDARD
TZOFFSETFROM:+0200
TZOFFSETTO:+0100
TZNAME:CET
DTSTART:20271031T010000
END:STANDARD
END:VTIMEZONE
BEGIN:VEVENT
DTSTART;TZID=Europe/Zurich:20260203T160000
DTEND;TZID=Europe/Zurich:20260203T180000
DTSTAMP:20260419T204248
CREATED:20251209T095853Z
LAST-MODIFIED:20251217T071707Z
UID:10000004-1770134400-1770141600@graubuendenskitour.ch
SUMMARY:Kickoff Serie - physischer Startschuss #2
DESCRIPTION:Der physische Startschuss Engadin\n\nDienstag\, 03. Februar 2026\nEngadin (genaue Location wird zeitnah kommuniziert)\n16.00–18:00 Uhr\, anschl. Apéro\n\nEin interaktiver Workshop – offen\, kreativ und dialogorientiert. Gemeinsam reflektieren wir die 11 Handlungsfelder\, sammeln Perspektiven und schärfen erste Schwerpunkte für die Umsetzung.\n\nMehr erfahren
URL:https://graubuendenskitour.ch/event/kickoff-serie-physischer-startschuss-2/
LOCATION:Hotel Laudinella\, Via Tegiatscha 17\, St. Moritz\, 7500\, Switzerland
CATEGORIES:Workshops
ATTACH;FMTTYPE=image/jpeg:https://graubuendenskitour.ch/wp-content/uploads/2025/11/TRAILRUNNING_GRAUBUNDEN_20112025_MAXIMILIANGIERL_OPENSPACE_LENZERHEIDE_175-scaled.jpg
ORGANIZER;CN="Zenit run":MAILTO:dalcolmo@zenit.run
END:VEVENT
END:VCALENDAR