BEGIN:VCALENDAR
VERSION:2.0
PRODID:-//graubünden Skitour - ECPv6.15.12.2//NONSGML v1.0//EN
CALSCALE:GREGORIAN
METHOD:PUBLISH
X-ORIGINAL-URL:https://graubuendenskitour.ch
X-WR-CALDESC:Veranstaltungen für graubünden Skitour
REFRESH-INTERVAL;VALUE=DURATION:PT1H
X-Robots-Tag:noindex
X-PUBLISHED-TTL:PT1H
BEGIN:VTIMEZONE
TZID:Europe/Zurich
BEGIN:DAYLIGHT
TZOFFSETFROM:+0100
TZOFFSETTO:+0200
TZNAME:CEST
DTSTART:20250330T010000
END:DAYLIGHT
BEGIN:STANDARD
TZOFFSETFROM:+0200
TZOFFSETTO:+0100
TZNAME:CET
DTSTART:20251026T010000
END:STANDARD
BEGIN:DAYLIGHT
TZOFFSETFROM:+0100
TZOFFSETTO:+0200
TZNAME:CEST
DTSTART:20260329T010000
END:DAYLIGHT
BEGIN:STANDARD
TZOFFSETFROM:+0200
TZOFFSETTO:+0100
TZNAME:CET
DTSTART:20261025T010000
END:STANDARD
BEGIN:DAYLIGHT
TZOFFSETFROM:+0100
TZOFFSETTO:+0200
TZNAME:CEST
DTSTART:20270328T010000
END:DAYLIGHT
BEGIN:STANDARD
TZOFFSETFROM:+0200
TZOFFSETTO:+0100
TZNAME:CET
DTSTART:20271031T010000
END:STANDARD
END:VTIMEZONE
BEGIN:VEVENT
DTSTART;TZID=Europe/Zurich:20260924T120000
DTEND;TZID=Europe/Zurich:20260924T180000
DTSTAMP:20260419T203842
CREATED:20260120T104331Z
LAST-MODIFIED:20260120T104331Z
UID:10000008-1790251200-1790272800@graubuendenskitour.ch
SUMMARY:Networking Event
DESCRIPTION:Vernetzen. Austauschen. Weiterdenken.\nAm 24. September 2026 lädt graubünden Skitour zu einem kantonalen Networking Event ein. Im Zentrum stehen Begegnungen\, Gespräche und neue Impulse für die Weiterentwicklung des Skitourensports in Graubünden. Save the Date: Details werden zu einem späteren Zeitpunkt bekannt gegeben.
URL:https://graubuendenskitour.ch/event/networking-event/
CATEGORIES:Events und Tagungen
ATTACH;FMTTYPE=image/jpeg:https://graubuendenskitour.ch/wp-content/uploads/2026/01/TRAILRUNNING_GRAUBUNDEN_20112025_MAXIMILIANGIERL_OPENSPACE_LENZERHEIDE_279-scaled.jpg
ORGANIZER;CN="Zenit run":MAILTO:dalcolmo@zenit.run
END:VEVENT
END:VCALENDAR