BEGIN:VCALENDAR
VERSION:2.0
PRODID:-//graubünden Skitour - ECPv6.15.12.2//NONSGML v1.0//EN
CALSCALE:GREGORIAN
METHOD:PUBLISH
X-WR-CALNAME:graubünden Skitour
X-ORIGINAL-URL:https://graubuendenskitour.ch
X-WR-CALDESC:Veranstaltungen für graubünden Skitour
REFRESH-INTERVAL;VALUE=DURATION:PT1H
X-Robots-Tag:noindex
X-PUBLISHED-TTL:PT1H
BEGIN:VTIMEZONE
TZID:Europe/Zurich
BEGIN:DAYLIGHT
TZOFFSETFROM:+0100
TZOFFSETTO:+0200
TZNAME:CEST
DTSTART:20250330T010000
END:DAYLIGHT
BEGIN:STANDARD
TZOFFSETFROM:+0200
TZOFFSETTO:+0100
TZNAME:CET
DTSTART:20251026T010000
END:STANDARD
BEGIN:DAYLIGHT
TZOFFSETFROM:+0100
TZOFFSETTO:+0200
TZNAME:CEST
DTSTART:20260329T010000
END:DAYLIGHT
BEGIN:STANDARD
TZOFFSETFROM:+0200
TZOFFSETTO:+0100
TZNAME:CET
DTSTART:20261025T010000
END:STANDARD
BEGIN:DAYLIGHT
TZOFFSETFROM:+0100
TZOFFSETTO:+0200
TZNAME:CEST
DTSTART:20270328T010000
END:DAYLIGHT
BEGIN:STANDARD
TZOFFSETFROM:+0200
TZOFFSETTO:+0100
TZNAME:CET
DTSTART:20271031T010000
END:STANDARD
END:VTIMEZONE
BEGIN:VEVENT
DTSTART;TZID=Europe/Zurich:20260127T083000
DTEND;TZID=Europe/Zurich:20260127T123000
DTSTAMP:20260419T203935
CREATED:20251208T090458Z
LAST-MODIFIED:20251209T095949Z
UID:10000001-1769502600-1769517000@graubuendenskitour.ch
SUMMARY:Kickoff Serie - physischer Startschuss #1
DESCRIPTION:Der physische Startschuss Chur\n\nDienstag\, 27. Januar 2026\nLABOR\, Chur\n08:30–12:30 Uhr\, anschl. Apéro Riche\n\n\nEin interaktiver halbtägiger Workshop – offen\, kreativ und dialogorientiert. Gemeinsam reflektieren wir die 11 Handlungsfelder\, sammeln Perspektiven und schärfen erste Schwerpunkte für die Umsetzung.\n\nMehr erfahren
URL:https://graubuendenskitour.ch/event/kickoff-serie-physischer-startschuss/
LOCATION:LABOR am Pfisterplatz\, Herrengasse 6\, Chur\, 7000\, Switzerland
CATEGORIES:Workshops
ATTACH;FMTTYPE=image/jpeg:https://graubuendenskitour.ch/wp-content/uploads/2025/11/TRAILRUNNING_GRAUBUNDEN_20112025_MAXIMILIANGIERL_OPENSPACE_LENZERHEIDE_175-scaled.jpg
ORGANIZER;CN="Zenit run":MAILTO:dalcolmo@zenit.run
END:VEVENT
BEGIN:VEVENT
DTSTART;TZID=Europe/Zurich:20260129T160000
DTEND;TZID=Europe/Zurich:20260129T170000
DTSTAMP:20260419T203935
CREATED:20251208T091244Z
LAST-MODIFIED:20251208T092223Z
UID:10000002-1769702400-1769706000@graubuendenskitour.ch
SUMMARY:Kickoff Serie - digitale Projektinfo #1
DESCRIPTION:Digitale Projektinfo\n\nDonnerstag\, 29. Januar 2026\, 16–17 Uhr\nMittwoch\, 4. Februar 2026\, 18–19 Uhr\nOnline via Microsoft Teams\n\n\nFür alle\, die beim physischen Workshop nicht dabei sein können. In einer kompakten Stunde erfährst du alle wichtigen Informationen zum Projekt und kannst deine Fragen oder Ideen einbringen.\n\nMehr erfahren
URL:https://graubuendenskitour.ch/event/kickoff-serie-digitale-projektinfo/
CATEGORIES:Workshops
ATTACH;FMTTYPE=image/jpeg:https://graubuendenskitour.ch/wp-content/uploads/2025/11/AdobeStock_414161552-scaled.jpeg
ORGANIZER;CN="Zenit run":MAILTO:dalcolmo@zenit.run
END:VEVENT
END:VCALENDAR